BEGIN:VCALENDAR
VERSION:2.0
PRODID:-//hacksw/handcal//NONSGML v1.0//EN
CALSCALE:GREGORIAN
BEGIN:VEVENT
ORGANIZER;CN= Kelly Services Inc.:MAILTO:no-reply@mail.gcs-web.com
DTEND:
UID:c87c0638-50a4-4eb4-a19c-f1e5d30e1977
DTSTAMP:1777132275
LOCATION:https://edge.media-server.com/mmc/p/fpjgu4of
DESCRIPTION:Event Details https://ir.kellyservices.com/events/event-details/q1-2026-kelly-services-inc-earnings-webcast\n\nWebcast: https://edge.media-server.com/mmc/p/fpjgu4of
URL;VALUE=URI:https://edge.media-server.com/mmc/p/fpjgu4of
SUMMARY: Kelly Services Inc. - Q1 2026 Kelly Services, Inc. Earnings Webcast
DTSTART:20260507T130000Z
END:VEVENT
END:VCALENDAR